BEGIN:VCALENDAR
VERSION:2.0
PRODID:-//Wohlers Associates - ECPv6.15.20//NONSGML v1.0//EN
CALSCALE:GREGORIAN
METHOD:PUBLISH
X-ORIGINAL-URL:https://wohlersassociates.com
X-WR-CALDESC:Events for Wohlers Associates
REFRESH-INTERVAL;VALUE=DURATION:PT1H
X-Robots-Tag:noindex
X-PUBLISHED-TTL:PT1H
BEGIN:VTIMEZONE
TZID:Europe/Berlin
BEGIN:DAYLIGHT
TZOFFSETFROM:+0100
TZOFFSETTO:+0200
TZNAME:CEST
DTSTART:20240331T010000
END:DAYLIGHT
BEGIN:STANDARD
TZOFFSETFROM:+0200
TZOFFSETTO:+0100
TZNAME:CET
DTSTART:20241027T010000
END:STANDARD
BEGIN:DAYLIGHT
TZOFFSETFROM:+0100
TZOFFSETTO:+0200
TZNAME:CEST
DTSTART:20250330T010000
END:DAYLIGHT
BEGIN:STANDARD
TZOFFSETFROM:+0200
TZOFFSETTO:+0100
TZNAME:CET
DTSTART:20251026T010000
END:STANDARD
BEGIN:DAYLIGHT
TZOFFSETFROM:+0100
TZOFFSETTO:+0200
TZNAME:CEST
DTSTART:20260329T010000
END:DAYLIGHT
BEGIN:STANDARD
TZOFFSETFROM:+0200
TZOFFSETTO:+0100
TZNAME:CET
DTSTART:20261025T010000
END:STANDARD
END:VTIMEZONE
BEGIN:VEVENT
DTSTART;TZID=Europe/Berlin:20250521T143000
DTEND;TZID=Europe/Berlin:20250521T153000
DTSTAMP:20260424T195610
CREATED:20250514T182407Z
LAST-MODIFIED:20250519T160829Z
UID:8366-1747837800-1747841400@wohlersassociates.com
SUMMARY:Wohlers Webinar: AM Trends & Opportunities in Germany
DESCRIPTION:
URL:https://wohlersassociates.com/event/wohlers-webinar-am-trends-opportunities-in-germany/
LOCATION:Zoom
CATEGORIES:Wohlers Webinar
ATTACH;FMTTYPE=image/jpeg:https://wohlersassociates.com/wp-content/uploads/2025/05/UTF-8jira-generated-image-static-5604e291-e7c0-4089-b8c4-6086ca53e20d.jpg
END:VEVENT
END:VCALENDAR